BEGIN:VCALENDAR
VERSION:2.0
CREATED:20260423T205631Z
PRODID:-//Greystone Housing Impact Investors LP/Equisolve Calendar v1.0//EN
METHOD:PUBLISH
BEGIN:VEVENT
UID:f840a95ff14d4a6af51d8e0e96fdaeae
DTSTAMP:20260424T121334Z
DTSTART:20260512T130000Z
DTEND:20260512T140000Z
SUMMARY:First Quarter 2026 Earnings Conference Call
DESCRIPTION:First Quarter 2026 Earnings Conference Call
Date: May 12\, 2026 9:00 am EDT
Webcast: https://event.choruscall.com/mediaframe/webcast.html?webcastid=6DUNvqLB
END:VEVENT
END:VCALENDAR
